BEGIN:VCALENDAR
PRODID:-//Mozilla.org/NONSGML Mozilla Calendar V1.1//EN
VERSION:2.0
BEGIN:VEVENT
UID:69e8a8091a3d1
DTSTAMP:20260422T105049Z
DTSTART:20260516T100000Z
DTEND:20260516T100000Z
SUMMARY:'Save the date’ on arts events
DESCRIPTION:Book a demo now to see how this feature works https://www.lookatmedia.co/book-a-demo
END:VEVENT
END:VCALENDAR